BEGIN:VCALENDAR
VERSION:2.0
PRODID:-//Squarespace Inc/Squarespace 6//v6//EN
BEGIN:VEVENT
UID:568eb22569492ee7d9a34a56@squarespace.com
DTSTAMP:20160107T184524Z
DTSTART:20160126T120000Z
DTEND:20160127T045900Z
SUMMARY:Australia Day
END:VEVENT
END:VCALENDAR
