BEGIN:VCALENDAR
VERSION:2.0
PRODID:-//Squarespace Inc/Squarespace 6//v6//EN
BEGIN:VEVENT
UID:56baba90f85082678fd35a42@squarespace.com
DTSTAMP:20160210T042110Z
DTSTART:20160201T123000Z
DTEND:20160201T203000Z
SUMMARY:School goes back!
END:VEVENT
END:VCALENDAR
