BEGIN:VCALENDAR
VERSION:2.0
PRODID:-//Squarespace Inc/Squarespace 6//v6//EN
BEGIN:VEVENT
UID:56bab9682eeb81df69a5c8e5@squarespace.com
DTSTAMP:20160210T041954Z
DTSTART:20160210T050100Z
DTEND:20160211T045900Z
SUMMARY:Ash Wednesday
END:VEVENT
END:VCALENDAR
