BEGIN:VCALENDAR
VERSION:2.0
PRODID:-//Squarespace Inc/Squarespace 6//v6//EN
BEGIN:VEVENT
UID:56bab54e4c2f85c79266f9a6@squarespace.com
DTSTAMP:20160210T035946Z
DTSTART:20160225T230000Z
DTEND:20160226T020000Z
SUMMARY:Council Meeting
END:VEVENT
END:VCALENDAR
