BEGIN:VCALENDAR
VERSION:2.0
PRODID:-//Squarespace Inc/Squarespace 6//v6//EN
BEGIN:VEVENT
UID:56de6b8df8baf3261286682e@squarespace.com
DTSTAMP:20160308T060635Z
DTSTART:20160312T143000Z
DTEND:20160312T203000Z
SUMMARY:Council Cultural Immersion Programme
END:VEVENT
END:VCALENDAR
