BEGIN:VCALENDAR
VERSION:2.0
PRODID:-//Squarespace Inc/Squarespace 6//v6//EN
BEGIN:VEVENT
UID:56de6ccc22482ee781120af4@squarespace.com
DTSTAMP:20160308T061331Z
DTSTART:20160315T130000Z
DTEND:20160315T210000Z
SUMMARY:Association of Heads of Independent Schools Australia Conference
GEO:-35.282;149.128684
LOCATION:Canberra\, Australia
END:VEVENT
END:VCALENDAR
