BEGIN:VCALENDAR
VERSION:2.0
PRODID:-//Squarespace Inc/Squarespace 6//v6//EN
BEGIN:VEVENT
UID:56de6c034d088eec195749d0@squarespace.com
DTSTAMP:20160308T062811Z
DTSTART:20160315T160000Z
DTEND:20160315T200000Z
SUMMARY:Religious Education and Curriculum Committee Meeting
END:VEVENT
END:VCALENDAR
