BEGIN:VCALENDAR
VERSION:2.0
PRODID:-//Squarespace Inc/Squarespace 6//v6//EN
BEGIN:VEVENT
UID:56ea2b3e7c65e4b070dd4773@squarespace.com
DTSTAMP:20160322T042829Z
DTSTART:20160322T030000Z
DTEND:20160322T043000Z
SUMMARY:Salvado Catholic College Visit
END:VEVENT
END:VCALENDAR
