BEGIN:VCALENDAR
VERSION:2.0
PRODID:-//Squarespace Inc/Squarespace 6//v6//EN
BEGIN:VEVENT
UID:56de6d96b6aa6003a48f0b1e@squarespace.com
DTSTAMP:20160308T061525Z
DTSTART:20160317T140000Z
DTEND:20160317T150000Z
SUMMARY:Directors Advisory Panel
END:VEVENT
END:VCALENDAR
