BEGIN:VCALENDAR
VERSION:2.0
PRODID:-//Squarespace Inc/Squarespace 6//v6//EN
BEGIN:VEVENT
UID:56ea3076f85082dbf39114aa@squarespace.com
DTSTAMP:20160322T012559Z
DTSTART:20160317T110000Z
DTEND:20160317T123000Z
SUMMARY:Communication Technology Parent Forum
END:VEVENT
END:VCALENDAR
