BEGIN:VCALENDAR
VERSION:2.0
PRODID:-//Squarespace Inc/Squarespace 6//v6//EN
BEGIN:VEVENT
UID:56f0cac662cd946e04a5b2ab@squarespace.com
DTSTAMP:20160322T043456Z
DTSTART:20160323T063000Z
DTEND:20160323T090000Z
SUMMARY:Supporting Parents to Support Youth Project Workshop
END:VEVENT
END:VCALENDAR
