BEGIN:VCALENDAR
VERSION:2.0
PRODID:-//Squarespace Inc/Squarespace 6//v6//EN
BEGIN:VEVENT
UID:56de6e0727d4bdda33af63e5@squarespace.com
DTSTAMP:20160322T013540Z
DTSTART:20160324T160100Z
DTEND:20160325T155900Z
SUMMARY:Good Friday
END:VEVENT
END:VCALENDAR
