BEGIN:VCALENDAR
VERSION:2.0
PRODID:-//Squarespace Inc/Squarespace 6//v6//EN
BEGIN:VEVENT
UID:56de6e3027d4bdda33af64c5@squarespace.com
DTSTAMP:20160322T013107Z
DTSTART:20160326T160000Z
DTEND:20160327T155900Z
SUMMARY:Easter Sunday
END:VEVENT
END:VCALENDAR
