BEGIN:VCALENDAR
VERSION:2.0
PRODID:-//Squarespace Inc/Squarespace 6//v6//EN
BEGIN:VEVENT
UID:56de6e5027d4bdda33af6586@squarespace.com
DTSTAMP:20160322T013142Z
DTSTART:20160327T160000Z
DTEND:20160328T155900Z
SUMMARY:Easter Monday
END:VEVENT
END:VCALENDAR
