BEGIN:VCALENDAR
VERSION:2.0
PRODID:-//Squarespace Inc/Squarespace 6//v6//EN
BEGIN:VEVENT
UID:56bab4fa7da24fa6a4088b0f@squarespace.com
DTSTAMP:20160210T040058Z
DTSTART:20160307T110000Z
DTEND:20160308T045900Z
SUMMARY:Labour Day
END:VEVENT
END:VCALENDAR
