BEGIN:VCALENDAR
VERSION:2.0
PRODID:-//Squarespace Inc/Squarespace 6//v6//EN
BEGIN:VEVENT
UID:56de6e7d27d4bdda33af6647@squarespace.com
DTSTAMP:20160407T025916Z
DTSTART:20160427T160000Z
DTEND:20160428T040000Z
SUMMARY:Awards of Excellence Closing Date
END:VEVENT
END:VCALENDAR
