BEGIN:VCALENDAR
VERSION:2.0
PRODID:-//Squarespace Inc/Squarespace 6//v6//EN
BEGIN:VEVENT
UID:56de6fa44c2f85d8d8013ca1@squarespace.com
DTSTAMP:20160308T062708Z
DTSTART:20160505T223000Z
DTEND:20160506T010000Z
SUMMARY:Council and Staff Conference Meeting
GEO:-31.953513;115.857047
LOCATION:PFFWA Office\, Perth\, Australia
END:VEVENT
END:VCALENDAR
