BEGIN:VCALENDAR
VERSION:2.0
PRODID:-//Squarespace Inc/Squarespace 6//v6//EN
BEGIN:VEVENT
UID:56d906e28259b560ad35d4e5@squarespace.com
DTSTAMP:20160304T035623Z
DTSTART:20160309T003000Z
DTEND:20160309T013000Z
SUMMARY:St Jerome's Primary School\, Munster School Visit
END:VEVENT
END:VCALENDAR
