BEGIN:VCALENDAR
VERSION:2.0
PRODID:-//Squarespace Inc/Squarespace 6//v6//EN
BEGIN:VEVENT
UID:56d9063d3c44d8f97d7f2912@squarespace.com
DTSTAMP:20160304T035250Z
DTSTART:20160308T134500Z
DTEND:20160308T154500Z
SUMMARY:WARSEC Meeting
END:VEVENT
END:VCALENDAR
