BEGIN:VCALENDAR
VERSION:2.0
PRODID:-//Squarespace Inc/Squarespace 6//v6//EN
BEGIN:VEVENT
UID:56d7a887f8baf3e77eb4e1a5@squarespace.com
DTSTAMP:20160304T035755Z
DTSTART:20160401T174500Z
DTEND:20160401T190000Z
SUMMARY:St Maria Goretti School Visit
END:VEVENT
END:VCALENDAR
