BEGIN:VCALENDAR
VERSION:2.0
PRODID:-//Squarespace Inc/Squarespace 6//v6//EN
BEGIN:VEVENT
UID:56de6f0c8a65e20b9a13ab63@squarespace.com
DTSTAMP:20160322T013312Z
DTSTART:20160424T160000Z
DTEND:20160425T155900Z
SUMMARY:Anzac Day
END:VEVENT
END:VCALENDAR
