BEGIN:VCALENDAR
VERSION:2.0
PRODID:-//Squarespace Inc/Squarespace 6//v6//EN
BEGIN:VEVENT
UID:5705ce1340261decd40de5e0@squarespace.com
DTSTAMP:20160407T031026Z
DTSTART:20160427T013000Z
DTEND:20160427T033000Z
SUMMARY:St Helena's Catholic Primary School Visit\, Ellenbrook
END:VEVENT
END:VCALENDAR
