BEGIN:VCALENDAR
VERSION:2.0
PRODID:-//Squarespace Inc/Squarespace 6//v6//EN
BEGIN:VEVENT
UID:56de6f31e321400514f7a088@squarespace.com
DTSTAMP:20160308T062216Z
DTSTART:20160429T040100Z
DTEND:20160430T035900Z
SUMMARY:Remote and Rural Education Advisory Committee Meeting
END:VEVENT
END:VCALENDAR
