BEGIN:VCALENDAR
VERSION:2.0
PRODID:-//Squarespace Inc/Squarespace 6//v6//EN
BEGIN:VEVENT
UID:56de7012b09f95100c0c955d@squarespace.com
DTSTAMP:20160509T085106Z
DTSTART:20160521T003000Z
DTEND:20160521T093000Z
SUMMARY:2016 PFFWA Annual General Meeting and Conference
END:VEVENT
END:VCALENDAR
