BEGIN:VCALENDAR
VERSION:2.0
PRODID:-//Squarespace Inc/Squarespace 6//v6//EN
BEGIN:VEVENT
UID:56bab8f2ab48de19f06c5e44@squarespace.com
DTSTAMP:20160509T090010Z
DTSTART:20160520T100000Z
DTEND:20160520T143000Z
SUMMARY:2016 PFFWA Pre-Conference Dinner and Drinks
GEO:-31.961555;115.895185
LOCATION:Crown Casino\, LOT 302 Bolton Ave\, Burswood\, WA\, 6100\, Austral
 ia
END:VEVENT
END:VCALENDAR
