BEGIN:VCALENDAR
VERSION:2.0
PRODID:-//Squarespace Inc/Squarespace 6//v6//EN
BEGIN:VEVENT
UID:56bab87f3c44d8795bd60a80@squarespace.com
DTSTAMP:20160509T085838Z
DTSTART:20160521T133000Z
DTEND:20160521T213000Z
SUMMARY:2016 PFFWA Conference
GEO:-31.963139;115.896795
LOCATION:Crown Casino\, LOT 302 Bolton Ave\, Burswood\, WA\, 6100\, Austral
 ia
END:VEVENT
END:VCALENDAR
