BEGIN:VCALENDAR
VERSION:2.0
PRODID:-//Squarespace Inc/Squarespace 6//v6//EN
BEGIN:VEVENT
UID:5705cf3c45bf215d13df1ebf@squarespace.com
DTSTAMP:20160407T030844Z
DTSTART:20160504T010000Z
DTEND:20160504T023000Z
SUMMARY:St John Paul II Catholic Primary School Visit\, Banksia Grove
END:VEVENT
END:VCALENDAR
