BEGIN:VCALENDAR
VERSION:2.0
PRODID:-//Squarespace Inc/Squarespace 6//v6//EN
BEGIN:VEVENT
UID:574b0de0d210b84cd9740d4a@squarespace.com
DTSTAMP:20160529T154414Z
DTSTART:20160605T160000Z
DTEND:20160606T150000Z
SUMMARY:Western Australia Day
END:VEVENT
END:VCALENDAR
