BEGIN:VCALENDAR
VERSION:2.0
PRODID:-//Squarespace Inc/Squarespace 6//v6//EN
BEGIN:VEVENT
UID:57a153f1d482e9ab0a353b2e@squarespace.com
DTSTAMP:20160803T021836Z
DTSTART:20160807T233000Z
DTEND:20160808T003000Z
SUMMARY:Catholic Schools Staff Breakfast
END:VEVENT
END:VCALENDAR
