BEGIN:VCALENDAR
VERSION:2.0
PRODID:-//Squarespace Inc/Squarespace 6//v6//EN
BEGIN:VEVENT
UID:57a14c1a8419c2447ee1ed02@squarespace.com
DTSTAMP:20160803T014528Z
DTSTART:20160808T113000Z
DTEND:20160808T123000Z
SUMMARY:School Visit Sacred Heart College Sorrento
END:VEVENT
END:VCALENDAR
