BEGIN:VCALENDAR
VERSION:2.0
PRODID:-//Squarespace Inc/Squarespace 6//v6//EN
BEGIN:VEVENT
UID:57a154ee1b631b03e8bcfe6a@squarespace.com
DTSTAMP:20160803T022125Z
DTSTART:20160809T003000Z
DTEND:20160809T023000Z
SUMMARY:WARSEC Meeting
END:VEVENT
END:VCALENDAR
