BEGIN:VCALENDAR
VERSION:2.0
PRODID:-//Squarespace Inc/Squarespace 6//v6//EN
BEGIN:VEVENT
UID:5bbea107e4966b22ee681149@squarespace.com
DTSTAMP:20181011T010215Z
DTSTART:20190410T060000Z
DTEND:20190410T090000Z
SUMMARY:APC Board Meeting - Teleconference
END:VEVENT
END:VCALENDAR
