BEGIN:VCALENDAR
VERSION:2.0
PRODID:-//Squarespace Inc/Squarespace 6//v6//EN
BEGIN:VEVENT
UID:5bbea0ddc830254051107110@squarespace.com
DTSTAMP:20181011T010151Z
DTSTART:20190313T060000Z
DTEND:20190313T090000Z
SUMMARY:APC Board Meeting - Teleconference
END:VEVENT
END:VCALENDAR
