BEGIN:VCALENDAR
VERSION:2.0
PRODID:-//Squarespace Inc/Squarespace 6//v6//EN
BEGIN:VEVENT
UID:5b85f6ca2b6a28a0f8ab8216@squarespace.com
DTSTAMP:20180829T013835Z
DTSTART:20190421T160100Z
DTEND:20190422T155900Z
SUMMARY:Easter Monday
END:VEVENT
END:VCALENDAR
