BEGIN:VCALENDAR
VERSION:2.0
PRODID:-//Squarespace Inc/Squarespace 6//v6//EN
BEGIN:VEVENT
UID:5b85f677aa4a99e19d341925@squarespace.com
DTSTAMP:20180829T013517Z
DTSTART:20190420T160100Z
DTEND:20190421T155900Z
SUMMARY:Easter Sunday
END:VEVENT
END:VCALENDAR
