BEGIN:VCALENDAR
VERSION:2.0
PRODID:-//Squarespace Inc/Squarespace 6//v6//EN
BEGIN:VEVENT
UID:5b85f710032be4dd9894b4d6@squarespace.com
DTSTAMP:20180829T013457Z
DTSTART:20190418T160100Z
DTEND:20190419T155900Z
SUMMARY:Good Friday
END:VEVENT
END:VCALENDAR
