BEGIN:VCALENDAR
VERSION:2.0
PRODID:-//Squarespace Inc/Squarespace 6//v6//EN
BEGIN:VEVENT
UID:5bce7f28a4222f17bfa87630@squarespace.com
DTSTAMP:20181023T015408Z
DTSTART:20190313T010000Z
DTEND:20190314T080000Z
SUMMARY:Faith Formation and Religious Education Standing Committee - Hobart
GEO:-33.86882;151.209296
LOCATION:Sydney
END:VEVENT
END:VCALENDAR
