BEGIN:VCALENDAR
VERSION:2.0
PRODID:-//Squarespace Inc/Squarespace 6//v6//EN
BEGIN:VEVENT
UID:5c637fd56e9a7f2951770795@squarespace.com
DTSTAMP:20190213T022735Z
DTSTART:20190328T100000Z
DTEND:20190328T120000Z
SUMMARY:10 Things Every Parent Needs to Know - Dr Justin Coulson - Curtin U
 niversity
END:VEVENT
END:VCALENDAR
