BEGIN:VCALENDAR
VERSION:2.0
PRODID:-//Squarespace Inc/Squarespace 6//v6//EN
BEGIN:VEVENT
UID:5b85f63fb8a045dcb8633e17@squarespace.com
DTSTAMP:20180829T012657Z
DTSTART:20190303T160100Z
DTEND:20190304T155900Z
SUMMARY:Labour Day - Public Holiday
END:VEVENT
END:VCALENDAR
