BEGIN:VCALENDAR
VERSION:2.0
PRODID:-//Squarespace Inc/Squarespace 6//v6//EN
BEGIN:VEVENT
UID:5be24a252b6a2899e647ca1f@squarespace.com
DTSTAMP:20181107T021355Z
DTSTART:20190307T100000Z
DTEND:20190307T130000Z
SUMMARY:PFFWA General Council Meeting #4
END:VEVENT
END:VCALENDAR
