BEGIN:VCALENDAR
VERSION:2.0
PRODID:-//Squarespace Inc/Squarespace 6//v6//EN
BEGIN:VEVENT
UID:5b85ef54f950b7b16b79b4b2@squarespace.com
DTSTAMP:20190204T033756Z
DTSTART:20190412T000000Z
DTEND:20190412T155900Z
SUMMARY:End of Term One
END:VEVENT
END:VCALENDAR
